BEGIN:VCALENDAR
VERSION:2.0
PRODID:-//Counties Manukau Hockey - ECPv6.15.12.2//NONSGML v1.0//EN
CALSCALE:GREGORIAN
METHOD:PUBLISH
X-WR-CALNAME:Counties Manukau Hockey
X-ORIGINAL-URL:https://cmha.co.nz
X-WR-CALDESC:Events for Counties Manukau Hockey
REFRESH-INTERVAL;VALUE=DURATION:PT1H
X-Robots-Tag:noindex
X-PUBLISHED-TTL:PT1H
BEGIN:VTIMEZONE
TZID:Pacific/Auckland
BEGIN:STANDARD
TZOFFSETFROM:+1300
TZOFFSETTO:+1200
TZNAME:NZST
DTSTART:20240406T140000
END:STANDARD
BEGIN:DAYLIGHT
TZOFFSETFROM:+1200
TZOFFSETTO:+1300
TZNAME:NZDT
DTSTART:20240928T140000
END:DAYLIGHT
BEGIN:STANDARD
TZOFFSETFROM:+1300
TZOFFSETTO:+1200
TZNAME:NZST
DTSTART:20250405T140000
END:STANDARD
BEGIN:DAYLIGHT
TZOFFSETFROM:+1200
TZOFFSETTO:+1300
TZNAME:NZDT
DTSTART:20250927T140000
END:DAYLIGHT
BEGIN:STANDARD
TZOFFSETFROM:+1300
TZOFFSETTO:+1200
TZNAME:NZST
DTSTART:20260404T140000
END:STANDARD
BEGIN:DAYLIGHT
TZOFFSETFROM:+1200
TZOFFSETTO:+1300
TZNAME:NZDT
DTSTART:20260926T140000
END:DAYLIGHT
END:VTIMEZONE
BEGIN:VEVENT
DTSTART;TZID=Pacific/Auckland:20250615T190000
DTEND;TZID=Pacific/Auckland:20250615T203000
DTSTAMP:20260420T095318
CREATED:20250610T232225Z
LAST-MODIFIED:20250610T232225Z
UID:3438-1750014000-1750019400@cmha.co.nz
SUMMARY:NHC Senior Trials - Condors
DESCRIPTION:
URL:https://cmha.co.nz/event/nhc-senior-trials-condors/
LOCATION:Rosa Birch Park\, Beresford Street\, Pukekohe\, South Auckland\, 2120\, New Zealand
CATEGORIES:Senior Rep
ATTACH;FMTTYPE=image/jpeg:https://cmha.co.nz/wp-content/uploads/2025/05/Condors-Trials-Expression-of-Interest-1.jpg
ORGANIZER;CN="CMHA":MAILTO:exec@cmha.co.nz
END:VEVENT
BEGIN:VEVENT
DTSTART;TZID=Pacific/Auckland:20250618T153000
DTEND;TZID=Pacific/Auckland:20250618T200000
DTSTAMP:20260420T095318
CREATED:20250610T233818Z
LAST-MODIFIED:20250610T233818Z
UID:3442-1750260600-1750276800@cmha.co.nz
SUMMARY:Counties Zones - Intermediate Competition
DESCRIPTION:
URL:https://cmha.co.nz/event/counties-zones-intermediate-competition/
CATEGORIES:Schools
END:VEVENT
BEGIN:VEVENT
DTSTART;TZID=Pacific/Auckland:20250620T080000
DTEND;TZID=Pacific/Auckland:20250620T170000
DTSTAMP:20260420T095318
CREATED:20250618T041602Z
LAST-MODIFIED:20250618T041602Z
UID:3448-1750406400-1750438800@cmha.co.nz
SUMMARY:Tamaki Matariki Zones
DESCRIPTION:
URL:https://cmha.co.nz/event/tamaki-matariki-zones/
END:VEVENT
BEGIN:VEVENT
DTSTART;TZID=Pacific/Auckland:20250622T190000
DTEND;TZID=Pacific/Auckland:20250622T203000
DTSTAMP:20260420T095318
CREATED:20250610T232357Z
LAST-MODIFIED:20250610T232943Z
UID:3440-1750618800-1750624200@cmha.co.nz
SUMMARY:NHC Senior Trials - Condors
DESCRIPTION:
URL:https://cmha.co.nz/event/nhc-senior-trials-condors-2/
LOCATION:Rosa Birch Park\, Beresford Street\, Pukekohe\, South Auckland\, 2120\, New Zealand
CATEGORIES:Senior Rep
ATTACH;FMTTYPE=image/jpeg:https://cmha.co.nz/wp-content/uploads/2025/05/Condors-Trials-Expression-of-Interest-1.jpg
END:VEVENT
BEGIN:VEVENT
DTSTART;TZID=Pacific/Auckland:20250625T153000
DTEND;TZID=Pacific/Auckland:20250625T200000
DTSTAMP:20260420T095318
CREATED:20250610T233914Z
LAST-MODIFIED:20250610T233914Z
UID:3444-1750865400-1750881600@cmha.co.nz
SUMMARY:Counties Zones - Intermediate Competition
DESCRIPTION:
URL:https://cmha.co.nz/event/counties-zones-intermediate-competition-2/
LOCATION:Counties Manukau Hockey\, Rosa Birch Park\, Pukekohe\, New Zealand
CATEGORIES:Schools
ORGANIZER;CN="CMHA":MAILTO:exec@cmha.co.nz
END:VEVENT
BEGIN:VEVENT
DTSTART;TZID=Pacific/Auckland:20250630T080000
DTEND;TZID=Pacific/Auckland:20250705T170000
DTSTAMP:20260420T095318
CREATED:20250618T042542Z
LAST-MODIFIED:20250618T042542Z
UID:3452-1751270400-1751734800@cmha.co.nz
SUMMARY:U18s Tournament
DESCRIPTION:
URL:https://cmha.co.nz/event/u18s-tournament/
CATEGORIES:Tournament,U18
ATTACH;FMTTYPE=image/png:https://cmha.co.nz/wp-content/uploads/2024/12/u18s-eoi-2.png
END:VEVENT
END:VCALENDAR