BEGIN:VCALENDAR
VERSION:2.0
PRODID:-//Counties Manukau Hockey - ECPv6.15.12.2//NONSGML v1.0//EN
CALSCALE:GREGORIAN
METHOD:PUBLISH
X-WR-CALNAME:Counties Manukau Hockey
X-ORIGINAL-URL:https://cmha.co.nz
X-WR-CALDESC:Events for Counties Manukau Hockey
REFRESH-INTERVAL;VALUE=DURATION:PT1H
X-Robots-Tag:noindex
X-PUBLISHED-TTL:PT1H
BEGIN:VTIMEZONE
TZID:Pacific/Auckland
BEGIN:STANDARD
TZOFFSETFROM:+1300
TZOFFSETTO:+1200
TZNAME:NZST
DTSTART:20220402T140000
END:STANDARD
BEGIN:DAYLIGHT
TZOFFSETFROM:+1200
TZOFFSETTO:+1300
TZNAME:NZDT
DTSTART:20220924T140000
END:DAYLIGHT
BEGIN:STANDARD
TZOFFSETFROM:+1300
TZOFFSETTO:+1200
TZNAME:NZST
DTSTART:20230401T140000
END:STANDARD
BEGIN:DAYLIGHT
TZOFFSETFROM:+1200
TZOFFSETTO:+1300
TZNAME:NZDT
DTSTART:20230923T140000
END:DAYLIGHT
BEGIN:STANDARD
TZOFFSETFROM:+1300
TZOFFSETTO:+1200
TZNAME:NZST
DTSTART:20240406T140000
END:STANDARD
BEGIN:DAYLIGHT
TZOFFSETFROM:+1200
TZOFFSETTO:+1300
TZNAME:NZDT
DTSTART:20240928T140000
END:DAYLIGHT
BEGIN:STANDARD
TZOFFSETFROM:+1300
TZOFFSETTO:+1200
TZNAME:NZST
DTSTART:20250405T140000
END:STANDARD
BEGIN:DAYLIGHT
TZOFFSETFROM:+1200
TZOFFSETTO:+1300
TZNAME:NZDT
DTSTART:20250927T140000
END:DAYLIGHT
END:VTIMEZONE
BEGIN:VEVENT
DTSTART;TZID=Pacific/Auckland:20241018T173000
DTEND;TZID=Pacific/Auckland:20241018T203000
DTSTAMP:20260420T061108
CREATED:20240813T222312Z
LAST-MODIFIED:20240813T222312Z
UID:3017-1729272600-1729283400@cmha.co.nz
SUMMARY:CMHA Summer Hockey 5s Comp Starts
DESCRIPTION:
URL:https://cmha.co.nz/event/cmha-summer-hockey-5s-comp-starts/
LOCATION:Counties Manukau Hockey\, Rosa Birch Park\, Pukekohe\, New Zealand
CATEGORIES:Summer Hockey 5s
ORGANIZER;CN="CMHA":MAILTO:exec@cmha.co.nz
END:VEVENT
BEGIN:VEVENT
DTSTART;TZID=Pacific/Auckland:20240915T080000
DTEND;TZID=Pacific/Auckland:20240921T170000
DTSTAMP:20260420T061108
CREATED:20240806T221302Z
LAST-MODIFIED:20240806T221302Z
UID:3010-1726387200-1726938000@cmha.co.nz
SUMMARY:Ford National Hockey Tournament
DESCRIPTION:
URL:https://cmha.co.nz/event/ford-national-hockey-tournament/
LOCATION:Hockey Manawatu Inc.\, 6 Manawaroa Street\, Palmerston North
CATEGORIES:Senior Rep,Tournament
END:VEVENT
BEGIN:VEVENT
DTSTART;TZID=Pacific/Auckland:20240901T130000
DTEND;TZID=Pacific/Auckland:20240901T143000
DTSTAMP:20260420T061108
CREATED:20240902T215846Z
LAST-MODIFIED:20240902T215846Z
UID:3045-1725195600-1725201000@cmha.co.nz
SUMMARY:CMHA Senior Mens v Northland Senior Men
DESCRIPTION:
URL:https://cmha.co.nz/event/cmha-senior-mens-v-northland-senior-men/
LOCATION:Counties Manukau Hockey\, Rosa Birch Park\, Pukekohe\, New Zealand
CATEGORIES:Senior Rep
END:VEVENT
BEGIN:VEVENT
DTSTART;TZID=Pacific/Auckland:20240831T110000
DTEND;TZID=Pacific/Auckland:20240831T123000
DTSTAMP:20260420T061108
CREATED:20240902T215746Z
LAST-MODIFIED:20240902T215746Z
UID:3043-1725102000-1725107400@cmha.co.nz
SUMMARY:CMHA Senior Women v NZ Masters 35s
DESCRIPTION:
URL:https://cmha.co.nz/event/cmha-senior-women-v-nz-masters-35s/
LOCATION:Counties Manukau Hockey\, Rosa Birch Park\, Pukekohe\, New Zealand
CATEGORIES:Senior Rep
END:VEVENT
BEGIN:VEVENT
DTSTART;TZID=Pacific/Auckland:20240817T080000
DTEND;TZID=Pacific/Auckland:20240817T183000
DTSTAMP:20260420T061108
CREATED:20240806T220341Z
LAST-MODIFIED:20240816T100104Z
UID:3008-1723881600-1723919400@cmha.co.nz
SUMMARY:CMHA FINALS DAY
DESCRIPTION:https://cmha.co.nz/wp-content/uploads/2024/08/Trophies-24.mp4
URL:https://cmha.co.nz/event/cmha-finals-day/
LOCATION:Rosa Birch Park\, Beresford Street\, Pukekohe\, South Auckland\, 2120\, New Zealand
ORGANIZER;CN="CMHA":MAILTO:exec@cmha.co.nz
END:VEVENT
BEGIN:VEVENT
DTSTART;TZID=Pacific/Auckland:20240709T180000
DTEND;TZID=Pacific/Auckland:20240709T210000
DTSTAMP:20260420T061108
CREATED:20240530T081920Z
LAST-MODIFIED:20240530T081920Z
UID:2936-1720548000-1720558800@cmha.co.nz
SUMMARY:Midweek Hockey 5s Competition Starts
DESCRIPTION:
URL:https://cmha.co.nz/event/midweek-hockey-5s-competition-starts/
LOCATION:Counties Manukau Hockey\, Rosa Birch Park\, Pukekohe\, New Zealand
ATTACH;FMTTYPE=image/png:https://cmha.co.nz/wp-content/uploads/2024/05/On-the-Spot-Social-Media-Asset-.png
ORGANIZER;CN="CMHA":MAILTO:exec@cmha.co.nz
END:VEVENT
BEGIN:VEVENT
DTSTART;TZID=Pacific/Auckland:20240707T080000
DTEND;TZID=Pacific/Auckland:20240713T170000
DTSTAMP:20260420T061108
CREATED:20240603T220720Z
LAST-MODIFIED:20240603T221250Z
UID:2952-1720339200-1720890000@cmha.co.nz
SUMMARY:Vantage National U18 Mens Tournament
DESCRIPTION:
URL:https://cmha.co.nz/event/vantage-national-u18-mens-tournament/
LOCATION:Park Island Recreation Ground\, Napier
CATEGORIES:Tournament,U18
END:VEVENT
BEGIN:VEVENT
DTSTART;TZID=Pacific/Auckland:20240707T080000
DTEND;TZID=Pacific/Auckland:20240713T170000
DTSTAMP:20260420T061108
CREATED:20240603T220256Z
LAST-MODIFIED:20240603T220256Z
UID:2948-1720339200-1720890000@cmha.co.nz
SUMMARY:Vantage National U18 Womens Tournament
DESCRIPTION:
URL:https://cmha.co.nz/event/vantage-national-u18-womens-tournament/
LOCATION:Nunweek Park\, Christchurch
CATEGORIES:Tournament,U18
END:VEVENT
BEGIN:VEVENT
DTSTART;VALUE=DATE:20240628
DTEND;VALUE=DATE:20240629
DTSTAMP:20260420T061108
CREATED:20240515T212240Z
LAST-MODIFIED:20240515T212240Z
UID:2858-1719532800-1719619199@cmha.co.nz
SUMMARY:Matariki Hockey 5s
DESCRIPTION:
URL:https://cmha.co.nz/event/matariki-hockey-5s/
LOCATION:Counties Manukau Hockey\, Rosa Birch Park\, Pukekohe\, New Zealand
CATEGORIES:Senior Rep,Tournament
ATTACH;FMTTYPE=image/jpeg:https://cmha.co.nz/wp-content/uploads/2024/05/Matariki-Poster-24.jpg
ORGANIZER;CN="CMHA":MAILTO:exec@cmha.co.nz
END:VEVENT
BEGIN:VEVENT
DTSTART;TZID=Pacific/Auckland:20240618T183000
DTEND;TZID=Pacific/Auckland:20240618T203000
DTSTAMP:20260420T061108
CREATED:20240528T000432Z
LAST-MODIFIED:20240528T000432Z
UID:2929-1718735400-1718742600@cmha.co.nz
SUMMARY:Umpire Workshop
DESCRIPTION:
URL:https://cmha.co.nz/event/umpire-workshop/
LOCATION:Counties Manukau Hockey\, Rosa Birch Park\, Pukekohe\, New Zealand
CATEGORIES:Umpires
ATTACH;FMTTYPE=image/png:https://cmha.co.nz/wp-content/uploads/2024/05/Umpire-Workshop-2024.png
ORGANIZER;CN="CMHA":MAILTO:exec@cmha.co.nz
END:VEVENT
BEGIN:VEVENT
DTSTART;TZID=Pacific/Auckland:20240608T120000
DTEND;TZID=Pacific/Auckland:20240608T133000
DTSTAMP:20260420T061108
CREATED:20240528T000717Z
LAST-MODIFIED:20240528T000717Z
UID:2931-1717848000-1717853400@cmha.co.nz
SUMMARY:Pak'nSave Women Premier Reserve - Round 1 Final
DESCRIPTION:
URL:https://cmha.co.nz/event/paknsave-women-premier-reserve-round-1-final/
LOCATION:Counties Manukau Hockey\, Rosa Birch Park\, Pukekohe\, New Zealand
END:VEVENT
BEGIN:VEVENT
DTSTART;TZID=Pacific/Auckland:20240429T180000
DTEND;TZID=Pacific/Auckland:20240429T190000
DTSTAMP:20260420T061108
CREATED:20240311T221228Z
LAST-MODIFIED:20240311T221228Z
UID:2418-1714413600-1714417200@cmha.co.nz
SUMMARY:Junior Umpires Meeting/Training - All Welcome!
DESCRIPTION:
URL:https://cmha.co.nz/event/junior-umpires-meeting-training-all-welcome/
LOCATION:Counties Manukau Hockey\, Rosa Birch Park\, Pukekohe\, New Zealand
CATEGORIES:Umpires
ATTACH;FMTTYPE=image/png:https://cmha.co.nz/wp-content/uploads/2024/03/JUNIOR-UMPIRE-MEETING-2024.png
ORGANIZER;CN="CMHA":MAILTO:exec@cmha.co.nz
END:VEVENT
BEGIN:VEVENT
DTSTART;TZID=Pacific/Auckland:20240312T170000
DTEND;TZID=Pacific/Auckland:20240312T180000
DTSTAMP:20260420T061108
CREATED:20240311T220415Z
LAST-MODIFIED:20240311T220415Z
UID:2415-1710262800-1710266400@cmha.co.nz
SUMMARY:Umpires Meeting - All Welcome!
DESCRIPTION:
URL:https://cmha.co.nz/event/umpires-meeting-all-welcome/
LOCATION:Counties Manukau Hockey\, Rosa Birch Park\, Pukekohe\, New Zealand
CATEGORIES:Umpires
ATTACH;FMTTYPE=image/jpeg:https://cmha.co.nz/wp-content/uploads/2024/03/Umpires-Mtg-12.3.24.jpg
ORGANIZER;CN="CMHA":MAILTO:exec@cmha.co.nz
END:VEVENT
BEGIN:VEVENT
DTSTART;TZID=Pacific/Auckland:20231002T080000
DTEND;TZID=Pacific/Auckland:20231003T170000
DTSTAMP:20260420T061108
CREATED:20230623T113541Z
LAST-MODIFIED:20230623T113541Z
UID:1712-1696233600-1696352400@cmha.co.nz
SUMMARY:U13 McGrath Tournament
DESCRIPTION:
URL:https://cmha.co.nz/event/u13-mcgrath-tournament/
LOCATION:Smallbone Park\, Devon Street West\, Rotorua\, New Zealand
CATEGORIES:Tournament
END:VEVENT
BEGIN:VEVENT
DTSTART;TZID=Pacific/Auckland:20231001T080000
DTEND;TZID=Pacific/Auckland:20231001T170000
DTSTAMP:20260420T061108
CREATED:20230623T113714Z
LAST-MODIFIED:20230623T113714Z
UID:1715-1696147200-1696179600@cmha.co.nz
SUMMARY:U14 Tournament
DESCRIPTION:
URL:https://cmha.co.nz/event/u14-tournament/
LOCATION:North Harbour Stadium
END:VEVENT
BEGIN:VEVENT
DTSTART;TZID=Pacific/Auckland:20230923T080000
DTEND;TZID=Pacific/Auckland:20230926T170000
DTSTAMP:20260420T061108
CREATED:20230608T073644Z
LAST-MODIFIED:20230608T073644Z
UID:1655-1695456000-1695747600@cmha.co.nz
SUMMARY:U16 Tournament - North Harbour Stadium
DESCRIPTION:
URL:https://cmha.co.nz/event/u16-tournament-north-harbour-stadium/
LOCATION:North Harbour Stadium
END:VEVENT
BEGIN:VEVENT
DTSTART;TZID=Pacific/Auckland:20230910T080000
DTEND;TZID=Pacific/Auckland:20230916T170000
DTSTAMP:20260420T061108
CREATED:20230608T074158Z
LAST-MODIFIED:20230608T074158Z
UID:1658-1694332800-1694883600@cmha.co.nz
SUMMARY:Ford National Hockey Championship - Hamilton
DESCRIPTION:
URL:https://cmha.co.nz/event/ford-national-hockey-championship-hamilton/
CATEGORIES:Senior Rep
END:VEVENT
BEGIN:VEVENT
DTSTART;TZID=Pacific/Auckland:20230828T100000
DTEND;TZID=Pacific/Auckland:20230901T170000
DTSTAMP:20260420T061108
CREATED:20230823T225014Z
LAST-MODIFIED:20230823T225014Z
UID:1906-1693216800-1693587600@cmha.co.nz
SUMMARY:Secondary School Tournament
DESCRIPTION:
URL:https://cmha.co.nz/event/secondary-school-tournament/
LOCATION:Counties Manukau Hockey\, Rosa Birch Park\, Pukekohe\, New Zealand
END:VEVENT
BEGIN:VEVENT
DTSTART;TZID=Pacific/Auckland:20230820T100000
DTEND;TZID=Pacific/Auckland:20230820T170000
DTSTAMP:20260420T061108
CREATED:20230802T000342Z
LAST-MODIFIED:20230802T000342Z
UID:1774-1692525600-1692550800@cmha.co.nz
SUMMARY:Northern Derby Day
DESCRIPTION:
URL:https://cmha.co.nz/event/northern-derby-day/
LOCATION:Counties Manukau Hockey\, Rosa Birch Park\, Pukekohe\, New Zealand
CATEGORIES:Senior Rep,Tournament,U16
END:VEVENT
BEGIN:VEVENT
DTSTART;TZID=Pacific/Auckland:20230705T090000
DTEND;TZID=Pacific/Auckland:20230705T120000
DTSTAMP:20260420T061108
CREATED:20230623T112013Z
LAST-MODIFIED:20230623T112420Z
UID:1705-1688547600-1688558400@cmha.co.nz
SUMMARY:CMHA Goal Keeping Camp
DESCRIPTION:Click HERE to register
URL:https://cmha.co.nz/event/cmha-goal-keeping-camp/
LOCATION:Counties Manukau Hockey\, Rosa Birch Park\, Pukekohe\, New Zealand
ORGANIZER;CN="CMHA":MAILTO:exec@cmha.co.nz
END:VEVENT
BEGIN:VEVENT
DTSTART;TZID=Pacific/Auckland:20230703T090000
DTEND;TZID=Pacific/Auckland:20230705T120000
DTSTAMP:20260420T061108
CREATED:20230623T111625Z
LAST-MODIFIED:20230623T111625Z
UID:1703-1688374800-1688558400@cmha.co.nz
SUMMARY:CMHA July Holiday Program
DESCRIPTION:
URL:https://cmha.co.nz/event/cmha-july-holiday-program/
LOCATION:Counties Manukau Hockey\, Rosa Birch Park\, Pukekohe\, New Zealand
ORGANIZER;CN="CMHA":MAILTO:exec@cmha.co.nz
END:VEVENT
BEGIN:VEVENT
DTSTART;VALUE=DATE:20230702
DTEND;VALUE=DATE:20230814
DTSTAMP:20260420T061108
CREATED:20230220T182331Z
LAST-MODIFIED:20230220T182827Z
UID:1144-1688256000-1691971199@cmha.co.nz
SUMMARY:Auckland Prem Reserve Intercity Round 2
DESCRIPTION:Auckland/Counties/Harbour Prem Reserve Intercity Competition
URL:https://cmha.co.nz/event/auckland-counties-harbour-intercity-round-2/
END:VEVENT
BEGIN:VEVENT
DTSTART;TZID=Pacific/Auckland:20230701T080000
DTEND;TZID=Pacific/Auckland:20230708T170000
DTSTAMP:20260420T061108
CREATED:20230210T023600Z
LAST-MODIFIED:20230216T212752Z
UID:988-1688198400-1688835600@cmha.co.nz
SUMMARY:U18s Tournaments
DESCRIPTION:Draws & Results \nhttps://hockeynz.altiusrt.com/ \nBooklet \n 
URL:https://cmha.co.nz/event/u18/
CATEGORIES:Tournament
ATTACH;FMTTYPE=image/jpeg:https://cmha.co.nz/wp-content/uploads/2023/02/news-item-005-U18s-2023.jpg
END:VEVENT
BEGIN:VEVENT
DTSTART;TZID=Pacific/Auckland:20230621T183000
DTEND;TZID=Pacific/Auckland:20230621T203000
DTSTAMP:20260420T061108
CREATED:20230608T071405Z
LAST-MODIFIED:20230608T072442Z
UID:1645-1687372200-1687379400@cmha.co.nz
SUMMARY:CMHA Senior Reps Trials
DESCRIPTION:
URL:https://cmha.co.nz/event/cmha-senior-reps-trials-4/
LOCATION:Rosa Birch Park\, Beresford Street\, Pukekohe\, South Auckland\, 2120\, New Zealand
CATEGORIES:Senior Rep
ORGANIZER;CN="CMHA":MAILTO:exec@cmha.co.nz
END:VEVENT
BEGIN:VEVENT
DTSTART;TZID=Pacific/Auckland:20230618T183000
DTEND;TZID=Pacific/Auckland:20230618T203000
DTSTAMP:20260420T061108
CREATED:20230608T070956Z
LAST-MODIFIED:20230608T072335Z
UID:1641-1687113000-1687120200@cmha.co.nz
SUMMARY:CMHA Senior Reps Trials
DESCRIPTION:
URL:https://cmha.co.nz/event/cmha-senior-reps-trials-2/
LOCATION:Rosa Birch Park\, Beresford Street\, Pukekohe\, South Auckland\, 2120\, New Zealand
CATEGORIES:Senior Rep
ORGANIZER;CN="CMHA":MAILTO:exec@cmha.co.nz
END:VEVENT
BEGIN:VEVENT
DTSTART;TZID=Pacific/Auckland:20230614T183000
DTEND;TZID=Pacific/Auckland:20230614T203000
DTSTAMP:20260420T061108
CREATED:20230608T071145Z
LAST-MODIFIED:20230608T072404Z
UID:1643-1686767400-1686774600@cmha.co.nz
SUMMARY:CMHA Senior Reps Trials
DESCRIPTION:
URL:https://cmha.co.nz/event/cmha-senior-reps-trials-3/
LOCATION:Rosa Birch Park\, Beresford Street\, Pukekohe\, South Auckland\, 2120\, New Zealand
CATEGORIES:Senior Rep
ORGANIZER;CN="CMHA":MAILTO:exec@cmha.co.nz
END:VEVENT
BEGIN:VEVENT
DTSTART;TZID=Pacific/Auckland:20230611T183000
DTEND;TZID=Pacific/Auckland:20230611T203000
DTSTAMP:20260420T061108
CREATED:20230608T070842Z
LAST-MODIFIED:20230608T072300Z
UID:1639-1686508200-1686515400@cmha.co.nz
SUMMARY:CMHA Senior Reps Trials
DESCRIPTION:
URL:https://cmha.co.nz/event/cmha-senior-reps-trials/
LOCATION:Rosa Birch Park\, Beresford Street\, Pukekohe\, South Auckland\, 2120\, New Zealand
CATEGORIES:Senior Rep
ORGANIZER;CN="CMHA":MAILTO:exec@cmha.co.nz
END:VEVENT
BEGIN:VEVENT
DTSTART;TZID=Pacific/Auckland:20230611T090000
DTEND;TZID=Pacific/Auckland:20230611T100000
DTSTAMP:20260420T061108
CREATED:20230608T070521Z
LAST-MODIFIED:20230608T072125Z
UID:1637-1686474000-1686477600@cmha.co.nz
SUMMARY:CMHA U16 Training
DESCRIPTION:           \nScan the QR code or click HERE to register
URL:https://cmha.co.nz/event/u16-training/
LOCATION:Rosa Birch Park\, Beresford Street\, Pukekohe\, South Auckland\, 2120\, New Zealand
CATEGORIES:Tournament,U16
ORGANIZER;CN="CMHA":MAILTO:exec@cmha.co.nz
END:VEVENT
BEGIN:VEVENT
DTSTART;TZID=Pacific/Auckland:20230428T170000
DTEND;TZID=Pacific/Auckland:20230428T170000
DTSTAMP:20260420T061108
CREATED:20230217T025322Z
LAST-MODIFIED:20230217T025322Z
UID:1115-1682701200-1682701200@cmha.co.nz
SUMMARY:Secondary School Player Registrations
DESCRIPTION:
URL:https://cmha.co.nz/event/secondary-school-player-registrations/
END:VEVENT
BEGIN:VEVENT
DTSTART;TZID=Pacific/Auckland:20230426T170000
DTEND;TZID=Pacific/Auckland:20230426T170000
DTSTAMP:20260420T061108
CREATED:20230217T025800Z
LAST-MODIFIED:20230217T025800Z
UID:1119-1682528400-1682528400@cmha.co.nz
SUMMARY:Junior/Youth Player Registrations
DESCRIPTION:
URL:https://cmha.co.nz/event/junior-youth-player-registrations/
END:VEVENT
END:VCALENDAR