BEGIN:VCALENDAR
VERSION:2.0
PRODID:-//Counties Manukau Hockey - ECPv6.15.12.2//NONSGML v1.0//EN
CALSCALE:GREGORIAN
METHOD:PUBLISH
X-ORIGINAL-URL:https://cmha.co.nz
X-WR-CALDESC:Events for Counties Manukau Hockey
REFRESH-INTERVAL;VALUE=DURATION:PT1H
X-Robots-Tag:noindex
X-PUBLISHED-TTL:PT1H
BEGIN:VTIMEZONE
TZID:Pacific/Auckland
BEGIN:STANDARD
TZOFFSETFROM:+1300
TZOFFSETTO:+1200
TZNAME:NZST
DTSTART:20240406T140000
END:STANDARD
BEGIN:DAYLIGHT
TZOFFSETFROM:+1200
TZOFFSETTO:+1300
TZNAME:NZDT
DTSTART:20240928T140000
END:DAYLIGHT
BEGIN:STANDARD
TZOFFSETFROM:+1300
TZOFFSETTO:+1200
TZNAME:NZST
DTSTART:20250405T140000
END:STANDARD
BEGIN:DAYLIGHT
TZOFFSETFROM:+1200
TZOFFSETTO:+1300
TZNAME:NZDT
DTSTART:20250927T140000
END:DAYLIGHT
BEGIN:STANDARD
TZOFFSETFROM:+1300
TZOFFSETTO:+1200
TZNAME:NZST
DTSTART:20260404T140000
END:STANDARD
BEGIN:DAYLIGHT
TZOFFSETFROM:+1200
TZOFFSETTO:+1300
TZNAME:NZDT
DTSTART:20260926T140000
END:DAYLIGHT
BEGIN:STANDARD
TZOFFSETFROM:+1300
TZOFFSETTO:+1200
TZNAME:NZST
DTSTART:20270403T140000
END:STANDARD
BEGIN:DAYLIGHT
TZOFFSETFROM:+1200
TZOFFSETTO:+1300
TZNAME:NZDT
DTSTART:20270925T140000
END:DAYLIGHT
END:VTIMEZONE
BEGIN:VEVENT
DTSTART;VALUE=DATE:20260412
DTEND;VALUE=DATE:20260413
DTSTAMP:20260424T062250
CREATED:20260203T204232Z
LAST-MODIFIED:20260203T204301Z
UID:3779-1775952000-1776038399@cmha.co.nz
SUMMARY:CMHA-AHA-NHHA Premier Reserve Intercity Competition Starts
DESCRIPTION:
URL:https://cmha.co.nz/event/cmha-aha-nhha-premier-reserve-intercity-competition-starts/
CATEGORIES:Club,Intercity
END:VEVENT
BEGIN:VEVENT
DTSTART;VALUE=DATE:20260411
DTEND;VALUE=DATE:20260412
DTSTAMP:20260424T062250
CREATED:20260203T203458Z
LAST-MODIFIED:20260203T203948Z
UID:3775-1775865600-1775951999@cmha.co.nz
SUMMARY:Club Senior Hockey Competitions Start
DESCRIPTION:COMPETITIONS: \nCMHA-AKH-NHHA Premier Reserve Intercity\nCMHA Reserve Mens\nCMHA Reserve Womens\nCMHA Division 1 Mens
URL:https://cmha.co.nz/event/club-senior-hockey-competitions-start/
LOCATION:Counties Manukau Hockey\, Rosa Birch Park\, Pukekohe\, New Zealand
CATEGORIES:Club
ATTACH;FMTTYPE=image/jpeg:https://cmha.co.nz/wp-content/uploads/2023/02/cmhashield.jpg
ORGANIZER;CN="CMHA":MAILTO:exec@cmha.co.nz
END:VEVENT
BEGIN:VEVENT
DTSTART;TZID=Pacific/Auckland:20260402T080000
DTEND;TZID=Pacific/Auckland:20260402T170000
DTSTAMP:20260424T062250
CREATED:20260203T202645Z
LAST-MODIFIED:20260203T203132Z
UID:3770-1775116800-1775149200@cmha.co.nz
SUMMARY:Club Youth & Junior Team Registrations Due
DESCRIPTION:
URL:https://cmha.co.nz/event/youth-junior-team-registrations-due/
CATEGORIES:Club
END:VEVENT
BEGIN:VEVENT
DTSTART;TZID=Pacific/Auckland:20260313T080000
DTEND;TZID=Pacific/Auckland:20260313T170000
DTSTAMP:20260424T062250
CREATED:20260203T202110Z
LAST-MODIFIED:20260203T202110Z
UID:3764-1773388800-1773421200@cmha.co.nz
SUMMARY:Senior Club Team Registrations Due
DESCRIPTION:
URL:https://cmha.co.nz/event/senior-club-team-registrations-due/
CATEGORIES:Club
END:VEVENT
BEGIN:VEVENT
DTSTART;TZID=Pacific/Auckland:20250506T163000
DTEND;TZID=Pacific/Auckland:20250506T190000
DTSTAMP:20260424T062250
CREATED:20250219T010650Z
LAST-MODIFIED:20250219T010650Z
UID:3131-1746549000-1746558000@cmha.co.nz
SUMMARY:CMHA Secondary Schools Competition starts
DESCRIPTION:
URL:https://cmha.co.nz/event/cmha-secondary-schools-competition-starts/
LOCATION:Counties Manukau Hockey\, Rosa Birch Park\, Pukekohe\, New Zealand
CATEGORIES:Club
ORGANIZER;CN="CMHA":MAILTO:exec@cmha.co.nz
END:VEVENT
BEGIN:VEVENT
DTSTART;VALUE=DATE:20250405
DTEND;VALUE=DATE:20250406
DTSTAMP:20260424T062250
CREATED:20250219T010248Z
LAST-MODIFIED:20250219T010248Z
UID:3127-1743811200-1743897599@cmha.co.nz
SUMMARY:CMHA Senior Club Competition starts
DESCRIPTION:
URL:https://cmha.co.nz/event/cmha-senior-club-competition-starts/
LOCATION:Counties Manukau Hockey\, Rosa Birch Park\, Pukekohe\, New Zealand
CATEGORIES:Club,Umpires
ORGANIZER;CN="CMHA":MAILTO:exec@cmha.co.nz
END:VEVENT
BEGIN:VEVENT
DTSTART;TZID=Pacific/Auckland:20250329T080000
DTEND;TZID=Pacific/Auckland:20250330T170000
DTSTAMP:20260424T062250
CREATED:20250219T005737Z
LAST-MODIFIED:20250227T230306Z
UID:3119-1743235200-1743354000@cmha.co.nz
SUMMARY:Pre-Season Senior Club Hockey 5s Tournament (Reserve & Div1)
DESCRIPTION:
URL:https://cmha.co.nz/event/pre-season-senior-club-hockey-5s-tournament-reserve-div1/
LOCATION:Counties Manukau Hockey\, Rosa Birch Park\, Pukekohe\, New Zealand
CATEGORIES:Club
ATTACH;FMTTYPE=image/png:https://cmha.co.nz/wp-content/uploads/2023/11/Mitre-10-new.png
ORGANIZER;CN="CMHA":MAILTO:exec@cmha.co.nz
END:VEVENT
BEGIN:VEVENT
DTSTART;TZID=Pacific/Auckland:20250316T080000
DTEND;TZID=Pacific/Auckland:20250316T170000
DTSTAMP:20260424T062250
CREATED:20250219T010111Z
LAST-MODIFIED:20250219T010111Z
UID:3125-1742112000-1742144400@cmha.co.nz
SUMMARY:Intercity P2 Competition Starts
DESCRIPTION:
URL:https://cmha.co.nz/event/intercity-p2-competition-starts/
CATEGORIES:Club,Intercity
END:VEVENT
BEGIN:VEVENT
DTSTART;TZID=Pacific/Auckland:20250311T180000
DTEND;TZID=Pacific/Auckland:20250311T190000
DTSTAMP:20260424T062250
CREATED:20250219T005948Z
LAST-MODIFIED:20250219T005948Z
UID:3123-1741716000-1741719600@cmha.co.nz
SUMMARY:Umpires Pre-Season Workshop & BBQ
DESCRIPTION:
URL:https://cmha.co.nz/event/umpires-pre-season-workshop-bbq/
LOCATION:Counties Manukau Hockey\, Rosa Birch Park\, Pukekohe\, New Zealand
CATEGORIES:Club,Umpires
ORGANIZER;CN="CMHA":MAILTO:exec@cmha.co.nz
END:VEVENT
BEGIN:VEVENT
DTSTART;TZID=Pacific/Auckland:20250308T080000
DTEND;TZID=Pacific/Auckland:20250308T170000
DTSTAMP:20260424T062250
CREATED:20250219T005830Z
LAST-MODIFIED:20250227T230617Z
UID:3121-1741420800-1741453200@cmha.co.nz
SUMMARY:Intercity/Premier Pre-Season Round
DESCRIPTION:Find the draw here: PlayHq
URL:https://cmha.co.nz/event/intercity-premier-pre-season-round/
CATEGORIES:Club,Intercity
ATTACH;FMTTYPE=image/png:https://cmha.co.nz/wp-content/uploads/2023/11/Mitre-10-new.png
END:VEVENT
END:VCALENDAR