BEGIN:VCALENDAR
VERSION:2.0
PRODID:-//Counties Manukau Hockey - ECPv6.15.12.2//NONSGML v1.0//EN
CALSCALE:GREGORIAN
METHOD:PUBLISH
X-WR-CALNAME:Counties Manukau Hockey
X-ORIGINAL-URL:https://cmha.co.nz
X-WR-CALDESC:Events for Counties Manukau Hockey
REFRESH-INTERVAL;VALUE=DURATION:PT1H
X-Robots-Tag:noindex
X-PUBLISHED-TTL:PT1H
BEGIN:VTIMEZONE
TZID:Pacific/Auckland
BEGIN:STANDARD
TZOFFSETFROM:+1300
TZOFFSETTO:+1200
TZNAME:NZST
DTSTART:20240406T140000
END:STANDARD
BEGIN:DAYLIGHT
TZOFFSETFROM:+1200
TZOFFSETTO:+1300
TZNAME:NZDT
DTSTART:20240928T140000
END:DAYLIGHT
BEGIN:STANDARD
TZOFFSETFROM:+1300
TZOFFSETTO:+1200
TZNAME:NZST
DTSTART:20250405T140000
END:STANDARD
BEGIN:DAYLIGHT
TZOFFSETFROM:+1200
TZOFFSETTO:+1300
TZNAME:NZDT
DTSTART:20250927T140000
END:DAYLIGHT
BEGIN:STANDARD
TZOFFSETFROM:+1300
TZOFFSETTO:+1200
TZNAME:NZST
DTSTART:20260404T140000
END:STANDARD
BEGIN:DAYLIGHT
TZOFFSETFROM:+1200
TZOFFSETTO:+1300
TZNAME:NZDT
DTSTART:20260926T140000
END:DAYLIGHT
END:VTIMEZONE
BEGIN:VEVENT
DTSTART;TZID=Pacific/Auckland:20250722T080000
DTEND;TZID=Pacific/Auckland:20250723T170000
DTSTAMP:20260420T095325
CREATED:20250618T041944Z
LAST-MODIFIED:20250618T041944Z
UID:3450-1753171200-1753290000@cmha.co.nz
SUMMARY:Franklin Zones Y7 & 8 / Y5 & 6
DESCRIPTION:Year 7 & 8 Tournament – Tuesday 22 July\nYear 5 & 6 Tournament – Wednesday 23 July
URL:https://cmha.co.nz/event/franklin-zones-y7-8-y5-6/
CATEGORIES:Schools
END:VEVENT
END:VCALENDAR